BEGIN:VCALENDAR
VERSION:2.0
PRODID:-//Squarespace Inc/Squarespace 6//v6//EN
BEGIN:VEVENT
UID:5e4e0e7bbf52ce75590d7ed4@squarespace.com
DTSTAMP:20200229T072535Z
DTSTART:20200508T100000Z
DTEND:20200508T110000Z
SUMMARY:ALL OUR RELATIONS
END:VEVENT
END:VCALENDAR
