BEGIN:VCALENDAR
VERSION:2.0
PRODID:-//Squarespace Inc/Squarespace 6//v6//EN
BEGIN:VEVENT
UID:5e51e416c762610ac5572bac@squarespace.com
DTSTAMP:20200229T081300Z
DTSTART:20200509T100000Z
DTEND:20200509T110000Z
SUMMARY:APEIROGON
END:VEVENT
END:VCALENDAR
