BEGIN:VCALENDAR
VERSION:2.0
PRODID:-//Squarespace Inc/Squarespace 6//v6//EN
BEGIN:VEVENT
UID:5e4f7e403294823adf64e0f6@squarespace.com
DTSTAMP:20200229T080849Z
DTSTART:20200509T053000Z
DTEND:20200509T063000Z
SUMMARY:BETTER BOYS
END:VEVENT
END:VCALENDAR
