BEGIN:VCALENDAR
VERSION:2.0
PRODID:-//Squarespace Inc/Squarespace 6//v6//EN
BEGIN:VEVENT
UID:5e51e2c1292ccf78e832ad90@squarespace.com
DTSTAMP:20200229T081126Z
DTSTART:20200509T083000Z
DTEND:20200509T093000Z
SUMMARY:CHINESE CHECKERS
END:VEVENT
END:VCALENDAR
