BEGIN:VCALENDAR
VERSION:2.0
PRODID:-//Squarespace Inc/Squarespace 6//v6//EN
BEGIN:VEVENT
UID:5e4f1be5a4152c26b4ece56c@squarespace.com
DTSTAMP:20200229T080746Z
DTSTART:20200509T040000Z
DTEND:20200509T050000Z
SUMMARY:CITY ON FIRE
END:VEVENT
END:VCALENDAR
