BEGIN:VCALENDAR
VERSION:2.0
PRODID:-//Squarespace Inc/Squarespace 6//v6//EN
BEGIN:VEVENT
UID:5e4e0cf521989a778bbfa7f6@squarespace.com
DTSTAMP:20200229T072210Z
DTSTART:20200508T100000Z
DTEND:20200508T110000Z
SUMMARY:COMMON GROUND
END:VEVENT
END:VCALENDAR
