BEGIN:VCALENDAR
VERSION:2.0
PRODID:-//Squarespace Inc/Squarespace 6//v6//EN
BEGIN:VEVENT
UID:5e4f35453294823adf5aa98e@squarespace.com
DTSTAMP:20200229T080814Z
DTSTART:20200509T053000Z
DTEND:20200509T063000Z
SUMMARY:CONFERENCE OF THE BIRDS
END:VEVENT
END:VCALENDAR
