BEGIN:VCALENDAR
VERSION:2.0
PRODID:-//Squarespace Inc/Squarespace 6//v6//EN
BEGIN:VEVENT
UID:5e4dd1db73f9fa7acd69641f@squarespace.com
DTSTAMP:20200229T071925Z
DTSTART:20200508T070000Z
DTEND:20200508T080000Z
SUMMARY:CRY ME A RIVER
END:VEVENT
END:VCALENDAR
