BEGIN:VCALENDAR
VERSION:2.0
PRODID:-//Squarespace Inc/Squarespace 6//v6//EN
BEGIN:VEVENT
UID:5e51ecac169a2139bb7df7ba@squarespace.com
DTSTAMP:20200229T081424Z
DTSTART:20200510T010000Z
DTEND:20200510T043000Z
SUMMARY:THE CULTIVATE WORKSHOP
END:VEVENT
END:VCALENDAR
