BEGIN:VCALENDAR
VERSION:2.0
PRODID:-//Squarespace Inc/Squarespace 6//v6//EN
BEGIN:VEVENT
UID:5e4f22cd7147005983211534@squarespace.com
DTSTAMP:20200229T080554Z
DTSTART:20200509T040000Z
DTEND:20200509T050000Z
SUMMARY:DISAPPEARED AUSTRALIA
END:VEVENT
END:VCALENDAR
