BEGIN:VCALENDAR
VERSION:2.0
PRODID:-//Squarespace Inc/Squarespace 6//v6//EN
BEGIN:VEVENT
UID:5e51e0dd9fa7880e2a39c80d@squarespace.com
DTSTAMP:20200229T081041Z
DTSTART:20200509T070000Z
DTEND:20200509T080000Z
SUMMARY:FASCISTS AMONG US
END:VEVENT
END:VCALENDAR
