BEGIN:VCALENDAR
VERSION:2.0
PRODID:-//Squarespace Inc/Squarespace 6//v6//EN
BEGIN:VEVENT
UID:5e4dfc750caa646063475695@squarespace.com
DTSTAMP:20200229T072305Z
DTSTART:20200508T100000Z
DTEND:20200508T110000Z
SUMMARY:FIXING IT
END:VEVENT
END:VCALENDAR
