BEGIN:VCALENDAR
VERSION:2.0
PRODID:-//Squarespace Inc/Squarespace 6//v6//EN
BEGIN:VEVENT
UID:5e51e4959fa7880e2a3a46ac@squarespace.com
DTSTAMP:20200229T081220Z
DTSTART:20200509T100000Z
DTEND:20200509T111500Z
SUMMARY:FOR BETTER OR WORSE
END:VEVENT
END:VCALENDAR
