BEGIN:VCALENDAR
VERSION:2.0
PRODID:-//Squarespace Inc/Squarespace 6//v6//EN
BEGIN:VEVENT
UID:5e4bbbe401c72f4e3e7fb392@squarespace.com
DTSTAMP:20200229T071950Z
DTSTART:20200508T070000Z
DTEND:20200508T080000Z
SUMMARY:FROM THE HEART
END:VEVENT
END:VCALENDAR
