BEGIN:VCALENDAR
VERSION:2.0
PRODID:-//Squarespace Inc/Squarespace 6//v6//EN
BEGIN:VEVENT
UID:5e51e6323ed02b41f443063d@squarespace.com
DTSTAMP:20200229T081319Z
DTSTART:20200509T100000Z
DTEND:20200509T110000Z
SUMMARY:LIFE'S SOUNDTRACK
END:VEVENT
END:VCALENDAR
