BEGIN:VCALENDAR
VERSION:2.0
PRODID:-//Squarespace Inc/Squarespace 6//v6//EN
BEGIN:VEVENT
UID:5e51efc1fe69f273e6d0499d@squarespace.com
DTSTAMP:20200229T081401Z
DTSTART:20200510T003000Z
DTEND:20200510T013000Z
SUMMARY:MOTHER - THE LAUNCH
END:VEVENT
END:VCALENDAR
