BEGIN:VCALENDAR
VERSION:2.0
PRODID:-//Squarespace Inc/Squarespace 6//v6//EN
BEGIN:VEVENT
UID:5e4b38586d8433076e025747@squarespace.com
DTSTAMP:20200229T071904Z
DTSTART:20200508T070000Z
DTEND:20200508T080000Z
SUMMARY:NOT SO SAFE HAVEN
END:VEVENT
END:VCALENDAR
