BEGIN:VCALENDAR
VERSION:2.0
PRODID:-//Squarespace Inc/Squarespace 6//v6//EN
BEGIN:VEVENT
UID:5e51f69d292ccf78e8353083@squarespace.com
DTSTAMP:20200229T081521Z
DTSTART:20200510T040000Z
DTEND:20200510T050000Z
SUMMARY:OH MOTHER
END:VEVENT
END:VCALENDAR
