BEGIN:VCALENDAR
VERSION:2.0
PRODID:-//Squarespace Inc/Squarespace 6//v6//EN
BEGIN:VEVENT
UID:5e51df2a169a2139bb7c26bf@squarespace.com
DTSTAMP:20200229T081023Z
DTSTART:20200509T070000Z
DTEND:20200509T080000Z
SUMMARY:OLD KNOWLEDGE FOR NEW WORLDS
END:VEVENT
END:VCALENDAR
