BEGIN:VCALENDAR
VERSION:2.0
PRODID:-//Squarespace Inc/Squarespace 6//v6//EN
BEGIN:VEVENT
UID:5e51e1b0169a2139bb7c6dbb@squarespace.com
DTSTAMP:20200229T081232Z
DTSTART:20200509T083000Z
DTEND:20200509T093000Z
SUMMARY:ON OUR SELECTION
END:VEVENT
END:VCALENDAR
