BEGIN:VCALENDAR
VERSION:2.0
PRODID:-//Squarespace Inc/Squarespace 6//v6//EN
BEGIN:VEVENT
UID:5e4dcb36f1e43c4855249026@squarespace.com
DTSTAMP:20200229T071818Z
DTSTART:20200508T023000Z
DTEND:20200508T043000Z
SUMMARY:ON THE GRAPEVINE
END:VEVENT
END:VCALENDAR
