BEGIN:VCALENDAR
VERSION:2.0
PRODID:-//Squarespace Inc/Squarespace 6//v6//EN
BEGIN:VEVENT
UID:5e4f20aca4bb9b009308591a@squarespace.com
DTSTAMP:20200229T080620Z
DTSTART:20200509T040000Z
DTEND:20200509T050000Z
SUMMARY:ON TRUST
END:VEVENT
END:VCALENDAR
