BEGIN:VCALENDAR
VERSION:2.0
PRODID:-//Squarespace Inc/Squarespace 6//v6//EN
BEGIN:VEVENT
UID:5e56113ae0e38673fd597248@squarespace.com
DTSTAMP:20200229T081621Z
DTSTART:20200510T063000Z
DTEND:20200510T093000Z
SUMMARY:PARTICLE/WAVE
END:VEVENT
END:VCALENDAR
