BEGIN:VCALENDAR
VERSION:2.0
PRODID:-//Squarespace Inc/Squarespace 6//v6//EN
BEGIN:VEVENT
UID:5e4df7c69a3725111261ac99@squarespace.com
DTSTAMP:20200229T072036Z
DTSTART:20200508T083000Z
DTEND:20200508T093000Z
SUMMARY:PARTY ANIMALS
END:VEVENT
END:VCALENDAR
