BEGIN:VCALENDAR
VERSION:2.0
PRODID:-//Squarespace Inc/Squarespace 6//v6//EN
BEGIN:VEVENT
UID:5e4e56d1e37e8158d4181bd2@squarespace.com
DTSTAMP:20200229T080506Z
DTSTART:20200509T023000Z
DTEND:20200509T033000Z
SUMMARY:Q&amp\;A CULTIVATE CHANGE
END:VEVENT
END:VCALENDAR
