BEGIN:VCALENDAR
VERSION:2.0
PRODID:-//Squarespace Inc/Squarespace 6//v6//EN
BEGIN:VEVENT
UID:5e4e17ac9625b1547472779c@squarespace.com
DTSTAMP:20200229T080406Z
DTSTART:20200509T010000Z
DTEND:20200509T020000Z
SUMMARY:Q&amp\;A WRITE ON
END:VEVENT
END:VCALENDAR
