BEGIN:VCALENDAR
VERSION:2.0
PRODID:-//Squarespace Inc/Squarespace 6//v6//EN
BEGIN:VEVENT
UID:5e4dd560f47c3c6c38ec8d9d@squarespace.com
DTSTAMP:20200229T072106Z
DTSTART:20200508T083000Z
DTEND:20200508T093000Z
SUMMARY:REALLY FANTASTIC
END:VEVENT
END:VCALENDAR
