BEGIN:VCALENDAR
VERSION:2.0
PRODID:-//Squarespace Inc/Squarespace 6//v6//EN
BEGIN:VEVENT
UID:5e4dd606fc99d17340331a75@squarespace.com
DTSTAMP:20200229T072135Z
DTSTART:20200508T083000Z
DTEND:20200508T093000Z
SUMMARY:SPEAKING OUT
END:VEVENT
END:VCALENDAR
