BEGIN:VCALENDAR
VERSION:2.0
PRODID:-//Squarespace Inc/Squarespace 6//v6//EN
BEGIN:VEVENT
UID:5e51dfce2bf5dc55cc087ea0@squarespace.com
DTSTAMP:20200229T080942Z
DTSTART:20200509T070000Z
DTEND:20200509T080000Z
SUMMARY:SUPER POWER
END:VEVENT
END:VCALENDAR
