BEGIN:VCALENDAR
VERSION:2.0
PRODID:-//Squarespace Inc/Squarespace 6//v6//EN
BEGIN:VEVENT
UID:5e51f2281408117e3b694acc@squarespace.com
DTSTAMP:20200229T081444Z
DTSTART:20200510T023000Z
DTEND:20200510T043000Z
SUMMARY:THE EDIBLE GARDEN
END:VEVENT
END:VCALENDAR
