BEGIN:VCALENDAR
VERSION:2.0
PRODID:-//Squarespace Inc/Squarespace 6//v6//EN
BEGIN:VEVENT
UID:5e4e55830caa646063514371@squarespace.com
DTSTAMP:20200229T080245Z
DTSTART:20200509T010000Z
DTEND:20200509T020000Z
SUMMARY:THE FUTURE OF US
END:VEVENT
END:VCALENDAR
