BEGIN:VCALENDAR
VERSION:2.0
PRODID:-//Squarespace Inc/Squarespace 6//v6//EN
BEGIN:VEVENT
UID:5e4e5a0f9625b1547478ebfa@squarespace.com
DTSTAMP:20200229T080536Z
DTSTART:20200509T023000Z
DTEND:20200509T033000Z
SUMMARY:THE HISTORY OF BELIEF
END:VEVENT
END:VCALENDAR
