BEGIN:VCALENDAR
VERSION:2.0
PRODID:-//Squarespace Inc/Squarespace 6//v6//EN
BEGIN:VEVENT
UID:5e51f7ae9fa7880e2a3cb4ad@squarespace.com
DTSTAMP:20200229T081547Z
DTSTART:20200510T053000Z
DTEND:20200510T073000Z
SUMMARY:TIDDLING TALES
END:VEVENT
END:VCALENDAR
