BEGIN:VCALENDAR
VERSION:2.0
PRODID:-//Squarespace Inc/Squarespace 6//v6//EN
BEGIN:VEVENT
UID:5e4e591c0caa64606351ab58@squarespace.com
DTSTAMP:20200229T080428Z
DTSTART:20200509T023000Z
DTEND:20200509T033000Z
SUMMARY:UNFINISHED BUSINESS
END:VEVENT
END:VCALENDAR
