BEGIN:VCALENDAR
VERSION:2.0
PRODID:-//Squarespace Inc/Squarespace 6//v6//EN
BEGIN:VEVENT
UID:5e4f7f0d0a77d85c6c5981c9@squarespace.com
DTSTAMP:20200229T080925Z
DTSTART:20200509T053000Z
DTEND:20200509T063000Z
SUMMARY:WE CAN'T SAY WE DIDN'T KNOW
END:VEVENT
END:VCALENDAR
