BEGIN:VCALENDAR
VERSION:2.0
PRODID:-//Squarespace Inc/Squarespace 6//v6//EN
BEGIN:VEVENT
UID:5e51e331169a2139bb7c9d3f@squarespace.com
DTSTAMP:20200229T081105Z
DTSTART:20200509T083000Z
DTEND:20200509T093000Z
SUMMARY:WHAT MAKES US WHOLE?
END:VEVENT
END:VCALENDAR
