BEGIN:VCALENDAR
VERSION:2.0
PRODID:-//Squarespace Inc/Squarespace 6//v6//EN
BEGIN:VEVENT
UID:5e4cd292598af96c1f741fca@squarespace.com
DTSTAMP:20200229T071731Z
DTSTART:20200507T010000Z
DTEND:20200507T021500Z
SUMMARY:WORDS OF SOLACE
END:VEVENT
END:VCALENDAR
